BEGIN:VCALENDAR
VERSION:2.0
PRODID:-//Eternidad Eventos - ECPv6.15.20//NONSGML v1.0//EN
CALSCALE:GREGORIAN
METHOD:PUBLISH
X-WR-CALNAME:Eternidad Eventos
X-ORIGINAL-URL:https://eternidadeventos.com
X-WR-CALDESC:Eventos para Eternidad Eventos
REFRESH-INTERVAL;VALUE=DURATION:PT1H
X-Robots-Tag:noindex
X-PUBLISHED-TTL:PT1H
BEGIN:VTIMEZONE
TZID:Europe/Madrid
BEGIN:DAYLIGHT
TZOFFSETFROM:+0100
TZOFFSETTO:+0200
TZNAME:CEST
DTSTART:20250330T010000
END:DAYLIGHT
BEGIN:STANDARD
TZOFFSETFROM:+0200
TZOFFSETTO:+0100
TZNAME:CET
DTSTART:20251026T010000
END:STANDARD
BEGIN:DAYLIGHT
TZOFFSETFROM:+0100
TZOFFSETTO:+0200
TZNAME:CEST
DTSTART:20260329T010000
END:DAYLIGHT
BEGIN:STANDARD
TZOFFSETFROM:+0200
TZOFFSETTO:+0100
TZNAME:CET
DTSTART:20261025T010000
END:STANDARD
BEGIN:DAYLIGHT
TZOFFSETFROM:+0100
TZOFFSETTO:+0200
TZNAME:CEST
DTSTART:20270328T010000
END:DAYLIGHT
BEGIN:STANDARD
TZOFFSETFROM:+0200
TZOFFSETTO:+0100
TZNAME:CET
DTSTART:20271031T010000
END:STANDARD
END:VTIMEZONE
BEGIN:VEVENT
DTSTART;TZID=Europe/Madrid:20260417T200000
DTEND;TZID=Europe/Madrid:20260515T223000
DTSTAMP:20260419T140406
CREATED:20240417T081031Z
LAST-MODIFIED:20260305T091700Z
UID:14750-1776456000-1778884200@eternidadeventos.com
SUMMARY:Mesalla Sin Males TourSan Fernando17 de abril
DESCRIPTION:Así Canta Jerez en Navidad				\n				\n				\n				\n							\n							\n											\n													\n										Madrid\n									\n								\n											\n													\n										Palacio Vistalegre Arena\n									\n								\n											\n													\n										13 de diciembre - 20.00h\n									\n								\n											\n\n												\n													\n										Comprar entradas\n											\n									\n						\n						\n				\n				\n				\n									Vuelve uno de los grandes espectáculos de la Navidad: Así Canta Jerez en Navidad. En 2026 celebra su 15 aniversario con una gira muy especial\, bajo la producción y dirección musical de Luis de Perikin.\n\nUn recorrido por los grandes éxitos que han marcado su historia\, junto a nuevas composiciones inspiradas en el folclore tradicional del villancico\, en un espectáculo que mantiene viva la esencia del flamenco y la zambomba jerezana con una puesta en escena actual y emocionante.\n\nTras conquistar a miles de espectadores en toda España y llenar recintos de gran formato en sus últimas giras\, Así Canta Jerez en Navidad se consolida como una de las citas imprescindibles de la Navidad.\n\nUna experiencia única para disfrutar en familia o con amigos\, donde tradición y renovación se dan la mano para hacerte sentir la Navidad como nunca antes.								\n				\n				\n				\n							\n			\n				\n					COMPRAR ENTRADAS
URL:https://eternidadeventos.com/eventos/mesalla-sin-males-tour-san-fernando/
CATEGORIES:Abril 2026,Próximos Eventos
ATTACH;FMTTYPE=image/jpeg:https://eternidadeventos.com/wp-content/uploads/2026/03/Mesalla-Sin-Males-Tour.jpg
END:VEVENT
BEGIN:VEVENT
DTSTART;TZID=Europe/Madrid:20260419T180000
DTEND;TZID=Europe/Madrid:20260419T220000
DTSTAMP:20260419T140406
CREATED:20240419T105435Z
LAST-MODIFIED:20260413T153201Z
UID:14431-1776621600-1776636000@eternidadeventos.com
SUMMARY:Los HumanosAyamonte19 de abril
DESCRIPTION:Así Canta Jerez en Navidad				\n				\n				\n				\n							\n							\n											\n													\n										Madrid\n									\n								\n											\n													\n										Palacio Vistalegre Arena\n									\n								\n											\n													\n										13 de diciembre - 20.00h\n									\n								\n											\n\n												\n													\n										Comprar entradas\n											\n									\n						\n						\n				\n				\n				\n									Vuelve uno de los grandes espectáculos de la Navidad: Así Canta Jerez en Navidad. En 2026 celebra su 15 aniversario con una gira muy especial\, bajo la producción y dirección musical de Luis de Perikin.\n\nUn recorrido por los grandes éxitos que han marcado su historia\, junto a nuevas composiciones inspiradas en el folclore tradicional del villancico\, en un espectáculo que mantiene viva la esencia del flamenco y la zambomba jerezana con una puesta en escena actual y emocionante.\n\nTras conquistar a miles de espectadores en toda España y llenar recintos de gran formato en sus últimas giras\, Así Canta Jerez en Navidad se consolida como una de las citas imprescindibles de la Navidad.\n\nUna experiencia única para disfrutar en familia o con amigos\, donde tradición y renovación se dan la mano para hacerte sentir la Navidad como nunca antes.								\n				\n				\n				\n							\n			\n				\n					COMPRAR ENTRADAS
URL:https://eternidadeventos.com/eventos/los-humanos-ayamonte-2026/
CATEGORIES:Abril 2026,Próximos Eventos
ATTACH;FMTTYPE=image/jpeg:https://eternidadeventos.com/wp-content/uploads/2024/03/Cartel-Los-Humanos-de-Martinez-Ares-1.jpg
END:VEVENT
BEGIN:VEVENT
DTSTART;TZID=Europe/Madrid:20260419T180000
DTEND;TZID=Europe/Madrid:20260419T223000
DTSTAMP:20260419T140406
CREATED:20240419T150144Z
LAST-MODIFIED:20260303T160528Z
UID:14709-1776621600-1776637800@eternidadeventos.com
SUMMARY:El Selu "Universo Cádi"Granada19 de abril
DESCRIPTION:Así Canta Jerez en Navidad				\n				\n				\n				\n							\n							\n											\n													\n										Madrid\n									\n								\n											\n													\n										Palacio Vistalegre Arena\n									\n								\n											\n													\n										13 de diciembre - 20.00h\n									\n								\n											\n\n												\n													\n										Comprar entradas\n											\n									\n						\n						\n				\n				\n				\n									Vuelve uno de los grandes espectáculos de la Navidad: Así Canta Jerez en Navidad. En 2026 celebra su 15 aniversario con una gira muy especial\, bajo la producción y dirección musical de Luis de Perikin.\n\nUn recorrido por los grandes éxitos que han marcado su historia\, junto a nuevas composiciones inspiradas en el folclore tradicional del villancico\, en un espectáculo que mantiene viva la esencia del flamenco y la zambomba jerezana con una puesta en escena actual y emocionante.\n\nTras conquistar a miles de espectadores en toda España y llenar recintos de gran formato en sus últimas giras\, Así Canta Jerez en Navidad se consolida como una de las citas imprescindibles de la Navidad.\n\nUna experiencia única para disfrutar en familia o con amigos\, donde tradición y renovación se dan la mano para hacerte sentir la Navidad como nunca antes.								\n				\n				\n				\n							\n			\n				\n					COMPRAR ENTRADAS
URL:https://eternidadeventos.com/eventos/universo-cadi-el-selu-granada/
CATEGORIES:Abril 2026,Próximos Eventos
ATTACH;FMTTYPE=image/jpeg:https://eternidadeventos.com/wp-content/uploads/2024/03/universo-cadi-2026.jpg
END:VEVENT
END:VCALENDAR